BEGIN:VCALENDAR
VERSION:2.0
PRODID:-// - ECPv6.15.18//NONSGML v1.0//EN
CALSCALE:GREGORIAN
METHOD:PUBLISH
X-ORIGINAL-URL:https://dallastexasexes.org
X-WR-CALDESC:Events for 
REFRESH-INTERVAL;VALUE=DURATION:PT1H
X-Robots-Tag:noindex
X-PUBLISHED-TTL:PT1H
BEGIN:VTIMEZONE
TZID:America/Chicago
BEGIN:DAYLIGHT
TZOFFSETFROM:-0600
TZOFFSETTO:-0500
TZNAME:CDT
DTSTART:20230312T080000
END:DAYLIGHT
BEGIN:STANDARD
TZOFFSETFROM:-0500
TZOFFSETTO:-0600
TZNAME:CST
DTSTART:20231105T070000
END:STANDARD
BEGIN:DAYLIGHT
TZOFFSETFROM:-0600
TZOFFSETTO:-0500
TZNAME:CDT
DTSTART:20240310T080000
END:DAYLIGHT
BEGIN:STANDARD
TZOFFSETFROM:-0500
TZOFFSETTO:-0600
TZNAME:CST
DTSTART:20241103T070000
END:STANDARD
BEGIN:DAYLIGHT
TZOFFSETFROM:-0600
TZOFFSETTO:-0500
TZNAME:CDT
DTSTART:20250309T080000
END:DAYLIGHT
BEGIN:STANDARD
TZOFFSETFROM:-0500
TZOFFSETTO:-0600
TZNAME:CST
DTSTART:20251102T070000
END:STANDARD
END:VTIMEZONE
BEGIN:VEVENT
DTSTART;TZID=America/Chicago:20241214T190000
DTEND;TZID=America/Chicago:20241214T220000
DTSTAMP:20260423T232909
CREATED:20241201T171107Z
LAST-MODIFIED:20241201T171143Z
UID:2232-1734202800-1734213600@dallastexasexes.org
SUMMARY:A Longhorn Wonderland - 2025 Holiday Party
DESCRIPTION:RSVP Here\n\n\n\n\n \n\n\n\nLonghorn Wonderland Christmas Party \n\n\n\n \n\n\n\nCome join us for a festive holiday celebration at Dallas Palms! Get ready for a night filled with cheer\, delicious food\, drinks\, and great company. This in-person event is the perfect way to kick off the holiday season with your fellow Longhorns. \n\n\n\n \n\n\n\nDon’t miss out on the opportunity to make merry memories and spread the joy of the season. Mark your calendars and get ready to jingle all the way! \n\n\n\nTickets are $20 for Texas Exes Membership Card Holders and $25 for Non-Members. \n\n\n\n \n\n\n\nDress code: Longhorn Christmas or Smart Cocktail \n\n\n\n \n\n\n\nCome one come all to reflect\, rejoice\, and recharge. Huge thank you to Dallas Palms.
URL:https://dallastexasexes.org/event/a-longhorn-wonderland-2025-holiday-party/
ATTACH;FMTTYPE=image/jpeg:https://dallastexasexes.org/test/wp/wp-content/uploads/2024/12/A_Longhorn_Wonderland.jpg
END:VEVENT
END:VCALENDAR