BEGIN:VCALENDAR
VERSION:2.0
PRODID:-// - ECPv6.15.18//NONSGML v1.0//EN
CALSCALE:GREGORIAN
METHOD:PUBLISH
X-ORIGINAL-URL:https://dallastexasexes.org
X-WR-CALDESC:Events for 
REFRESH-INTERVAL;VALUE=DURATION:PT1H
X-Robots-Tag:noindex
X-PUBLISHED-TTL:PT1H
BEGIN:VTIMEZONE
TZID:America/Chicago
BEGIN:DAYLIGHT
TZOFFSETFROM:-0600
TZOFFSETTO:-0500
TZNAME:CDT
DTSTART:20240310T080000
END:DAYLIGHT
BEGIN:STANDARD
TZOFFSETFROM:-0500
TZOFFSETTO:-0600
TZNAME:CST
DTSTART:20241103T070000
END:STANDARD
BEGIN:DAYLIGHT
TZOFFSETFROM:-0600
TZOFFSETTO:-0500
TZNAME:CDT
DTSTART:20250309T080000
END:DAYLIGHT
BEGIN:STANDARD
TZOFFSETFROM:-0500
TZOFFSETTO:-0600
TZNAME:CST
DTSTART:20251102T070000
END:STANDARD
BEGIN:DAYLIGHT
TZOFFSETFROM:-0600
TZOFFSETTO:-0500
TZNAME:CDT
DTSTART:20260308T080000
END:DAYLIGHT
BEGIN:STANDARD
TZOFFSETFROM:-0500
TZOFFSETTO:-0600
TZNAME:CST
DTSTART:20261101T070000
END:STANDARD
END:VTIMEZONE
BEGIN:VEVENT
DTSTART;TZID=America/Chicago:20251115T173000
DTEND;TZID=America/Chicago:20251115T220000
DTSTAMP:20260421T085356
CREATED:20251111T001655Z
LAST-MODIFIED:20251111T001658Z
UID:2465-1763227800-1763244000@dallastexasexes.org
SUMMARY:Texas at Georgia Watch Party
DESCRIPTION:Join the Dallas Texas Exes at Happiest Hour for a fun evening of food\, drinks\, and Texas Longhorn football. \n\n\n\n \n\n\n\nCome on out to support and cheer for Texas Football at Happiest Hour! Kickoff is at 6:30\, but plan to arrive early. \n\n\n\n \n\n\n\nAlso\, RSVP for an extra door prize ticket and to help Happiest Hour staff our area properly! Grab your tickets at the Dallas Texas Exes checkin table. \n\n\n\n \n\n\n\nThis reservation does not reserve you a table. You must go to the hostess stand for a table and request to sit with the Texas Exes in the garage. \n\n\n\n \n\n\n\nWe have two game watch locations in the area: our North location at the Longhorn Icehouse in Northwest Dallas and our South location at Happiest Hour on Olive St. \n\n\n\n \n\n\n\nCome early\, be loud\, bring friends and family\, and wear burnt orange! See y’all there!
URL:https://dallastexasexes.org/event/texas-at-georgia-watch-party/
LOCATION:Happiest Hour\, 2616 Olive Street\, Dallas\, Texas\, 75201
END:VEVENT
BEGIN:VEVENT
DTSTART;TZID=America/Chicago:20251115T173000
DTEND;TZID=America/Chicago:20251115T220000
DTSTAMP:20260421T085356
CREATED:20251111T001921Z
LAST-MODIFIED:20251111T001924Z
UID:2467-1763227800-1763244000@dallastexasexes.org
SUMMARY:Texas at Georgia Watch Party
DESCRIPTION:Come join us for a fun evening of watching the Texas Longhorns vs. Georgia Bulldogs football game! \n\n\n\n \n\n\n\nCome on out to support and cheer for Texas Football at Longhorn Icehouse! Kickoff is at 6:30\, but plan arrive early with your RSVP for premium seating. \n\n\n\n \n\n\n\nAlso\, RSVP for an extra door prize ticket! Grab your tickets at the Dallas Texas Exes checkin table. \n\n\n\n \n\n\n\nCome early\, be loud\, bring friends and family\, and wear burnt orange! See y’all there!
URL:https://dallastexasexes.org/event/texas-at-georgia-watch-party-2/
LOCATION:Longhorn Icehouse\, 1901 West Northwest Highway\, Dallas\, Tx\, 75220
END:VEVENT
END:VCALENDAR