BEGIN:VCALENDAR
VERSION:2.0
PRODID:-// - ECPv6.15.18//NONSGML v1.0//EN
CALSCALE:GREGORIAN
METHOD:PUBLISH
X-ORIGINAL-URL:https://dallastexasexes.org
X-WR-CALDESC:Events for 
REFRESH-INTERVAL;VALUE=DURATION:PT1H
X-Robots-Tag:noindex
X-PUBLISHED-TTL:PT1H
BEGIN:VTIMEZONE
TZID:America/Chicago
BEGIN:DAYLIGHT
TZOFFSETFROM:-0600
TZOFFSETTO:-0500
TZNAME:CDT
DTSTART:20220313T080000
END:DAYLIGHT
BEGIN:STANDARD
TZOFFSETFROM:-0500
TZOFFSETTO:-0600
TZNAME:CST
DTSTART:20221106T070000
END:STANDARD
BEGIN:DAYLIGHT
TZOFFSETFROM:-0600
TZOFFSETTO:-0500
TZNAME:CDT
DTSTART:20230312T080000
END:DAYLIGHT
BEGIN:STANDARD
TZOFFSETFROM:-0500
TZOFFSETTO:-0600
TZNAME:CST
DTSTART:20231105T070000
END:STANDARD
BEGIN:DAYLIGHT
TZOFFSETFROM:-0600
TZOFFSETTO:-0500
TZNAME:CDT
DTSTART:20240310T080000
END:DAYLIGHT
BEGIN:STANDARD
TZOFFSETFROM:-0500
TZOFFSETTO:-0600
TZNAME:CST
DTSTART:20241103T070000
END:STANDARD
END:VTIMEZONE
BEGIN:VTIMEZONE
TZID:UTC
BEGIN:STANDARD
TZOFFSETFROM:+0000
TZOFFSETTO:+0000
TZNAME:UTC
DTSTART:20210101T000000
END:STANDARD
END:VTIMEZONE
BEGIN:VEVENT
DTSTART;TZID=America/Chicago:20231007T080000
DTEND;TZID=America/Chicago:20231007T110000
DTSTAMP:20260425T233418
CREATED:20230930T160716Z
LAST-MODIFIED:20230930T160917Z
UID:1681-1696665600-1696676400@dallastexasexes.org
SUMMARY:Texas Sized Tailgate: TX/OU at State Fair of Texas
DESCRIPTION:O﻿fficial TEXAS tailgate location\n\n\n\nOIN us and be a part of the LARGEST LONGHORN Tailgate PARTY inside of the State Fair of Texas (GATE 5). Hang with Friends\, Drink Beers\, eat Breakfast Tacos and Let’s get Fired UP and Ready to cheer on your Texas Longhorns. \n\n\n\n \n\n\n\nEach year we host our fans inside the State Fair of Texas grounds\, by GATE 5\, in between The African American Museum and the Magnolia Beer Garden.  \n\n\n\n \n\n\n\nCome Early\, find our White Tents and Longhorn Signs.  We typically have the cheapest beers on fair grounds! Listen to the DJ and The HORN\, broadcasting live on location. Bring your friends and Let’s get fired up to beat the hell out of OU!! \n\n\n\n\n\n\n\nSave even more and pre-purchase your drink tickets NOW.
URL:https://dallastexasexes.org/event/texas-sized-tailgate-2023/
LOCATION:Fair Park: State Fair of Texas Gate 5\, 3809 Grand Ave\, Dallas\, Texas\, 75210\, United States
CATEGORIES:Football,Fundraising,Game Watching,Texas/ou
ATTACH;FMTTYPE=image/jpeg:https://dallastexasexes.org/test/wp/wp-content/uploads/2023/09/Texas-sized-tailgate-1.jpg
END:VEVENT
BEGIN:VEVENT
DTSTART;TZID=UTC:20221008T110000
DTEND;TZID=UTC:20221008T160000
DTSTAMP:20260425T233418
CREATED:20220929T211323Z
LAST-MODIFIED:20220929T211500Z
UID:1312-1665226800-1665244800@dallastexasexes.org
SUMMARY:Texas / OU Football Game
DESCRIPTION:Head to the State Fair of Texas and tailgate with us before the game (7-11 AM) \n\n\n\n \n\n\n\nNot going to the game? Gamewatch with us at either Longhorn Icehouse or Landmark Bar & Kitchen.  More info here.
URL:https://dallastexasexes.org/event/texas-ou-football-game/
CATEGORIES:Football,Texas/ou
ATTACH;FMTTYPE=image/jpeg:https://dallastexasexes.org/test/wp/wp-content/uploads/2021/09/Cotton-Bowl-txou.jpeg
END:VEVENT
BEGIN:VEVENT
DTSTART;TZID=UTC:20221008T070000
DTEND;TZID=UTC:20221008T110000
DTSTAMP:20260425T233418
CREATED:20220929T211018Z
LAST-MODIFIED:20220929T211101Z
UID:1309-1665212400-1665226800@dallastexasexes.org
SUMMARY:Texas Tailgate at the State Fair
DESCRIPTION:Come tailgate with us inside the State Fair starting at 7:00 AM till Texas/OU kicks off at 11:00 AM! \n\n\n\nThe party runs till kick off and we’re located off Gate 5. We’ll have The Horn radio station broadcasting on site and a performance by The Longhorn Singers. Admission is free; $5 drinks and Tacodeli available for purchase. 
URL:https://dallastexasexes.org/event/texas-tailgate-at-the-state-fair/
LOCATION:Fair Park: State Fair of Texas Gate 5\, 3809 Grand Ave\, Dallas\, Texas\, 75210\, United States
CATEGORIES:Football,Texas/ou
ATTACH;FMTTYPE=image/jpeg:https://dallastexasexes.org/test/wp/wp-content/uploads/2021/09/Tailgate-tickets-2-scaled.jpg
END:VEVENT
BEGIN:VEVENT
DTSTART;TZID=UTC:20221007T160000
DTEND;TZID=UTC:20221007T220000
DTSTAMP:20260425T233418
CREATED:20220929T205917Z
LAST-MODIFIED:20220929T211157Z
UID:1307-1665158400-1665180000@dallastexasexes.org
SUMMARY:Bash Before the Clash
DESCRIPTION:Join Texas Longhorn fans at the AC Hotel by the Galleria for a spirited night on the eve of the Texas-OU game. Drink specials\, great food\, DJ\, and special appearances by The Longhorn Singers\, Texas Pom & Cheer\, and Hook ’em will keep the party lively. \n\n\n\n \n\n\n\nThere is plenty of parking around the hotel. There is also free garage parking on Connell Dr. and Bryce Ln.
URL:https://dallastexasexes.org/event/bash-before-the-clash-2/
LOCATION:AC Hotel Galleria\, 5460 James Temple Drive\, Texas\, 75240\, United States
CATEGORIES:Football,Texas/ou
END:VEVENT
BEGIN:VEVENT
DTSTART;TZID=UTC:20221007T080000
DTEND;TZID=UTC:20221007T170000
DTSTAMP:20260425T233418
CREATED:20220629T015018Z
LAST-MODIFIED:20220727T070802Z
UID:1142-1665129600-1665162000@dallastexasexes.org
SUMMARY:Get Teed Off at OU
DESCRIPTION:Get ready for the 34th Annual Golf Tournament during Texas/ou Weekend!  Every Friday before the game\, we hit the golf course and raise money for local scholarships.  Golfers from all over the world spend the day with us before hitting the Cotton Bowl on Saturday for the Red River Showdown. \n\n\n\n \n\n\n\nRegistration is now open at https://dallastexasexes.org/upcoming-events/texas-ou-weekend/golf-classic/ \n\n\n\n \n\n\n\nEarly bird rate available – Hook’ Em Horns!
URL:https://dallastexasexes.org/event/gto-2022/
LOCATION:Firewheel Golf Park\, 600 W. Campbell Rd\, Garland\, Texas\, 75044\, United States
CATEGORIES:Texas/ou
ATTACH;FMTTYPE=image/jpeg:https://dallastexasexes.org/test/wp/wp-content/uploads/2021/07/IMG_8821-1.jpg
END:VEVENT
END:VCALENDAR