BEGIN:VCALENDAR
VERSION:2.0
PRODID:-// - ECPv6.15.18//NONSGML v1.0//EN
CALSCALE:GREGORIAN
METHOD:PUBLISH
X-ORIGINAL-URL:https://dallastexasexes.org
X-WR-CALDESC:Events for 
REFRESH-INTERVAL;VALUE=DURATION:PT1H
X-Robots-Tag:noindex
X-PUBLISHED-TTL:PT1H
BEGIN:VTIMEZONE
TZID:America/Chicago
BEGIN:DAYLIGHT
TZOFFSETFROM:-0600
TZOFFSETTO:-0500
TZNAME:CDT
DTSTART:20240310T080000
END:DAYLIGHT
BEGIN:STANDARD
TZOFFSETFROM:-0500
TZOFFSETTO:-0600
TZNAME:CST
DTSTART:20241103T070000
END:STANDARD
BEGIN:DAYLIGHT
TZOFFSETFROM:-0600
TZOFFSETTO:-0500
TZNAME:CDT
DTSTART:20250309T080000
END:DAYLIGHT
BEGIN:STANDARD
TZOFFSETFROM:-0500
TZOFFSETTO:-0600
TZNAME:CST
DTSTART:20251102T070000
END:STANDARD
BEGIN:DAYLIGHT
TZOFFSETFROM:-0600
TZOFFSETTO:-0500
TZNAME:CDT
DTSTART:20260308T080000
END:DAYLIGHT
BEGIN:STANDARD
TZOFFSETFROM:-0500
TZOFFSETTO:-0600
TZNAME:CST
DTSTART:20261101T070000
END:STANDARD
END:VTIMEZONE
BEGIN:VEVENT
DTSTART;TZID=America/Chicago:20251010T080000
DTEND;TZID=America/Chicago:20251010T170000
DTSTAMP:20260421T074106
CREATED:20250704T185750Z
LAST-MODIFIED:20251002T232439Z
UID:2370-1760083200-1760115600@dallastexasexes.org
SUMMARY:37th Annual "Get Teed Off at OU" Golf Classic
DESCRIPTION:RSVP Here\n\n\n\n\n \n\n\n\nRegister for the Texas Exes Dallas Chapter 37th Annual “Get Teed Off at OU” Golf Classic\n\n\n\n \n\n\n\nFriday October 10\, 2025\n\n\n\n \n\n\n\nFirewheel Golf Park\n\n\n\n \n\n\n\nMust use the Official Registration Portal: Click Here For the Tournament Registration Portal \n\n\n\n \n\n\n\nThis is a paid ticketed event. \n\n\n\n \n\n\n\nA Dallas Texas Exes TEXAS/ou weekend tradition! Every year\, the Dallas Texas Exes Alumni Chapter organizes and hosts it’s Marquee Scholarship fundraiser\, The Get Teed Off at OU Golf Classic. This six-person Florida scramble supports the Dallas Texas Exes Scholarship Fund. \n\n\n\n \n\n\n\nTake a look at last years event: 2024 36th Texas OU Weekend Festivities \n\n\n\nEach year\, the tournament boasts over 300 players comprised of dedicated alumni like yourself along with friends\, relatives and sponsors. For more information about the Dallas Texas Exes\, please visit our website: Dallas Texas Exes. \n\n\n\n \n\n\n\nThe Get Teed Off at OU Golf Classic has raised more than $2.5M in funds for scholarships over its three-decade history and is the longest running major Texas Exes event in the world. For more information on Scholarships and Recipients please visit our Scholarship Page. \n\n\n\n \n\n\n\nWhat are you waiting for? Participate NowSpend a great day of golf and fellowship and Get Teed Off to beat ou. Visti our YouTube Channel for a few Videos from previous Tournaments and other significant events. \n\n\n\n \n\n\n\nEntry fee includes Breakfast sponsored by Taco Deli; Lunch sponsored by Jasons Deli; and Dinner sponsored by Oak’d BBQ. Later in the day\, your Course Lead will deliver a box of Tiff’s Treats to your team\, filled with a delicious assortment of freshly baked cookies. \n\n\n\n \n\n\n\nAnd on the course there is plenty of action: \n\n\n\n\nAt the check-in counter\, each player will receive a unique player gift.\n\n\n\nAt strategic holes\, you will meet former LPGA champions and have an opportunity to go head-to-head testing your skills against theirs for additional chances to win incredible prizes.\n\n\n\nCompete in the Longest Drive\, Closest to the Pin\, and shoot a ball through an Air Cannon for additional yardage.\n\n\n\nBeverages and mixed drink samples will be located across the course.\n\n\n\nDallas’s top models from the Julie Freeman Talent Agency will be stationed across the course mixing drinks and selling raffle tickets giving you an opportunity to win unique prizes donated by our proud sponsors.\n\n\n\nAcross the course\, you will meet many of our sponsors.\n\n\n\n\n \n\n\n\nImportant! \n\n\n\n\nRegistration closes on Sunday\, October 5th\, 2025.\n\n\n\nRegister early and Save!\n\n\n\n\n \n\n\n\nIf you have questions or need more information\, please contact us via email at golf@dallastexasexes.org. \n\n\n\n \n\n\n\nSPONSORSHIP Opportunities are available\, please contact us via email at vp.sponsorship@dallastexasexes.org. \n\n\n\n \n\n\n\nABSOLUTELY NO REFUNDS OR EXCHANGES – Event is held Rain Or Shine \n\n\n\nAll funds benefit the Dallas Texas Exes Scholarship Fund \n\n\n\n \n\n\n\nRegister at: https://birdease.com/GetTeedOffAtOU
URL:https://dallastexasexes.org/event/37th-annual-get-teed-off-at-ou-golf-classic/
LOCATION:Firewheel Golf Park\, 600 W. Campbell Rd\, Garland\, Texas\, 75044\, United States
CATEGORIES:Fundraising
ATTACH;FMTTYPE=image/png:https://dallastexasexes.org/test/wp/wp-content/uploads/2025/06/GTO-37th-revised-2025.png
END:VEVENT
BEGIN:VEVENT
DTSTART;TZID=America/Chicago:20251010T183000
DTEND;TZID=America/Chicago:20251010T220000
DTSTAMP:20260421T074106
CREATED:20250711T175101Z
LAST-MODIFIED:20250914T144320Z
UID:2392-1760121000-1760133600@dallastexasexes.org
SUMMARY:Bash Before the Clash and Pep Rally
DESCRIPTION:RSVP Here\n\n\n\n\n \n\n\n\nTexas-OU Bash Before the Clash \n\n\n\n \n\n\n\nCome join us for the ultimate pre-game party before the big showdown! The Annual Bash Before the Clash celebration takes over AT&T Discovery District Plaza and the Exchange! Come hang out with local and traveling Longhorns coming into Dallas for the big game! Get ready to mingle with fellow fans\, enjoy delicious food and drinks\, and gear up for the epic rivalry game. The evening ends with the Longhorn sized Pep Rally. Don’t miss out on the fun! \n\n\n\n \n\n\n\nEvent Date: October 10\, 2025 at 7:00 PM (Central Time)
URL:https://dallastexasexes.org/event/bash-before-the-clash-and-pep-rally/
CATEGORIES:Football,Fundraising,Game Watching
ATTACH;FMTTYPE=image/png:https://dallastexasexes.org/test/wp/wp-content/uploads/2024/09/Bash-Rally-combo-logo-small.png
END:VEVENT
BEGIN:VEVENT
DTSTART;TZID=America/Chicago:20251011T090000
DTEND;TZID=America/Chicago:20251011T140000
DTSTAMP:20260421T074106
CREATED:20250925T000458Z
LAST-MODIFIED:20250925T000501Z
UID:2427-1760173200-1760191200@dallastexasexes.org
SUMMARY:Texas/OU Tailgate
DESCRIPTION:JOIN us and be a part of the LARGEST LONGHORN Tailgate PARTY inside of the State Fair of Texas (GATE 5 – Closest address is the African American Museum: 3536 Grand Ave\, Dallas\, TX 75210).Each year we host our fans inside the State Fair of Texas grounds\, by GATE 5\, in between The African American Museum and the Magnolia Beer Garden. Come Early\, find our White Tents and Longhorn Signs.  \n\n\n\n \n\n\n\nWe have the cheapest beers on fair grounds! \n\n\n\n**Drinks by Coors and Corona** \n\n\n\n \n\n\n\nPre-purchased drink tickets are $5 each (1 ticket per beer or seltzer)Drink prices onsite are $7 beer/seltzer\, $3 water\, $5 soda. \n\n\n\nAvailable for purchase at the tailgate: Taco Deli and more!
URL:https://dallastexasexes.org/event/texas-ou-tailgate-2/
END:VEVENT
BEGIN:VEVENT
DTSTART;TZID=America/Chicago:20251018T170000
DTEND;TZID=America/Chicago:20251018T220000
DTSTAMP:20260421T074106
CREATED:20251016T024254Z
LAST-MODIFIED:20251016T024258Z
UID:2454-1760806800-1760824800@dallastexasexes.org
SUMMARY:Longhorns vs. Kentucky Watch Party - Longhorn Icehouse
DESCRIPTION:Longhorns vs. Kentucky Watch Party – Longhorn IcehouseHOW ABOUT OUR ‘HORNS!!!!! \n\n\n\nCome on out this Saturday to support and cheer for Texas Football at Longhorn Icehouse! Kickoff is at 6:00\, but plan to arrive early with your RSVP for premium seating. \n\n\n\nAlso\, RSVP for an extra door prize ticket! Grab your tickets at the Dallas Texas Exes checkin table. \n\n\n\nCome early\, be loud\, bring friends and family\, and wear burnt orange! See y’all there!
URL:https://dallastexasexes.org/event/longhorns-vs-kentucky-watch-party-longhorn-icehouse/
LOCATION:Longhorn Icehouse\, 1901 West Northwest Highway\, Dallas\, Texas\, 75220\, United States
END:VEVENT
BEGIN:VEVENT
DTSTART;TZID=America/Chicago:20251018T170000
DTEND;TZID=America/Chicago:20251018T220000
DTSTAMP:20260421T074106
CREATED:20251016T024845Z
LAST-MODIFIED:20251016T025907Z
UID:2458-1760806800-1760824800@dallastexasexes.org
SUMMARY:Texas at Kentucky Gamewatch at Happiest Hour
DESCRIPTION:HOW ABOUT THOSE ‘HORNS!! \n\n\n\n \n\n\n\nHOW ABOUT THOSE ‘HORNS!! \n\n\n\nCome on out to support and cheer for Texas Football at Happiest Hour! Kickoff is at 6:00\, but plan to arrive early. \n\n\n\n \n\n\n\nAlso\, RSVP for an extra door prize ticket and to help Happiest Hour staff our area properly! Grab your tickets at the Dallas Texas Exes checkin table. \n\n\n\nThis reservation does not reserve you a table. You must go to the hostess stand for a table and request to sit with the Texas Exes in the garage. \n\n\n\n \n\n\n\nCome early\, be loud\, bring friends and family\, and wear burnt orange! See y’all there!
URL:https://dallastexasexes.org/event/texas-at-kentucky-gamewatch-at-happiest-hour/
LOCATION:Happiest Hour\, 2616 Olive Street\, Dallas\, Texas\, 75201
END:VEVENT
BEGIN:VEVENT
DTSTART;TZID=America/Chicago:20251029T183000
DTEND;TZID=America/Chicago:20251029T203000
DTSTAMP:20260421T074106
CREATED:20250131T232650Z
LAST-MODIFIED:20250131T232651Z
UID:2303-1761762600-1761769800@dallastexasexes.org
SUMMARY:October Board Meeting
DESCRIPTION:RSVP Here\n\n\n\n\n \n\n\n\nThe Dallas Texas Exes meet every last Wednesday of the month (Except July and November) from 6:30 – 8:30 PM\, in-person. Board meetings are open to all Texas Exes and friends. You do not need to be a paid Texas Exes member to volunteer with us or attend our events. \n\n\n\n \n\n\n\nArmanino Building | 15950 N Dallas Parkway\, #600\, Dallas\, TX 75248 | The south tower; Parking in the garage and around the building \n\n\n\n \n\n\n\nJoin our board meetings to learn what the Dallas Texas Exes are up to and how you can get involved in our upcoming events such as game watching\, Texas/OU weekend\, community service\, networking events\, and more! \n\n\n\n \n\n\n\nFood and beverages are provided\, so RSVP to help us prepare accordingly.
URL:https://dallastexasexes.org/event/october-board-meeting-2/
CATEGORIES:Board Meeting
ATTACH;FMTTYPE=image/jpeg:https://dallastexasexes.org/test/wp/wp-content/uploads/2024/01/DTE-Board-Meetings.jpg
END:VEVENT
END:VCALENDAR