BEGIN:VCALENDAR
VERSION:2.0
PRODID:-// - ECPv6.15.18//NONSGML v1.0//EN
CALSCALE:GREGORIAN
METHOD:PUBLISH
X-ORIGINAL-URL:https://dallastexasexes.org
X-WR-CALDESC:Events for 
REFRESH-INTERVAL;VALUE=DURATION:PT1H
X-Robots-Tag:noindex
X-PUBLISHED-TTL:PT1H
BEGIN:VTIMEZONE
TZID:America/Chicago
BEGIN:DAYLIGHT
TZOFFSETFROM:-0600
TZOFFSETTO:-0500
TZNAME:CDT
DTSTART:20250309T080000
END:DAYLIGHT
BEGIN:STANDARD
TZOFFSETFROM:-0500
TZOFFSETTO:-0600
TZNAME:CST
DTSTART:20251102T070000
END:STANDARD
BEGIN:DAYLIGHT
TZOFFSETFROM:-0600
TZOFFSETTO:-0500
TZNAME:CDT
DTSTART:20260308T080000
END:DAYLIGHT
BEGIN:STANDARD
TZOFFSETFROM:-0500
TZOFFSETTO:-0600
TZNAME:CST
DTSTART:20261101T070000
END:STANDARD
BEGIN:DAYLIGHT
TZOFFSETFROM:-0600
TZOFFSETTO:-0500
TZNAME:CDT
DTSTART:20270314T080000
END:DAYLIGHT
BEGIN:STANDARD
TZOFFSETFROM:-0500
TZOFFSETTO:-0600
TZNAME:CST
DTSTART:20271107T070000
END:STANDARD
END:VTIMEZONE
BEGIN:VEVENT
DTSTART;TZID=America/Chicago:20260216T180000
DTEND;TZID=America/Chicago:20260216T203000
DTSTAMP:20260421T092100
CREATED:20260122T113311Z
LAST-MODIFIED:20260122T113315Z
UID:2528-1771264800-1771273800@dallastexasexes.org
SUMMARY:Young Alumni Happy Hour + Beginners Two-Step Lessons
DESCRIPTION:RSVP Here\n\n\n\n\n \n\n\n\nAll alumni and friends are welcome to join the Young Alumni for happy hour and dancing at Round-Up in Oaklawn! \n\n\n\n \n\n\n\n\n\n\n\n\n\n\n\nAll alumni and friends are welcome to join the Young Alumni at Round-Up in Oaklawn! It’s Happy Hour ALL NIGHT\, and the Young Alumni are doing a Two-Step Take Over! No need to bring a partner\, so come on by at 6:00 to say hi and meet other alumni. \n\n\n\n\n6:00 PM Happy Hour and Pizza\n\n\n\n6:30 PM Intro to Two-Step with Monica\n\n\n\n7:30 – 8:00 PM Intermediate moves with Trenton\n\n\n\n8:00 -8:30 PM Open Dance\, Music will be playing to practice your moves!\n\n\n\n8:30 PM Line Dance lessons by Mike McKinney\, Round-Up’s regular instructor\n\n\n\n\nRound-Up offers two-step classes and all day happy hour pricing every Monday night\, but on the 16th (Presidents’ Day)\, YA members Monica Li and Trenton Makare will take over as your instructors for the evening. \n\n\n\n \n\n\n\nPizza will be provided by Dallas Texas Exes and the Young Alumni Committee – \n\n\n\nRSVP so we know how much food to order and for Round-Up to properly staff the bar. \n\n\n\nPLEASE NOTE: There is no kitchen at Round-Up. \n\n\n\n \n\n\n\nNot interested in dancing? You can still come by to toast to the new year with us before and after the lesson and enjoy happy hour while watching the dancers! \n\n\n\n \n\n\n\nContact ya@dallastexasexes.org for any questions. \n\n\n\n \n\n\n\n\n\n\n\n\n\n\n\nMeet your Young Alumni dance instructors of the night!\n\n\n\n\n\n\n\nMonica Li\, Textiles and Apparel: Apparel Design 2010Director of Operations\, Tech Consulting | 2026 President of the Dallas Texas Exes \n\n\n\nMonica was a TA for UT’s Ballroom/Social Dance class from 2007-2010. She currently teaches private lessons and continues to takes dance classes in hip hop and jazz. \n\n\n\n \n\n\n\nTrenton Makare\, Mechanical Engineering 2015Manufacturing Director\, Engineering Industry \n\n\n\nTrenton has been two-stepping for 15 years and has been a competitive two-stepper in Texas. He’s a frequent at Cowboys Redriver and Round-Up Saloon. \n\n\n\n \n\n\n\nKristi Bartlett\, Petroleum and Geosystems Engineering 2013Director of Reservoir Engineering\, Natural Gas Insutry \n\n\n\nKristi has been two-stepping since her freshman year on the 40 Acres. She’ll be Monica’s “follow” and a teaching assistant during beginner two-sep lessons and has volunteered in this roll two other years. Kristi has also run the YA Camp Dallas Texas Exes event for the past couple years.
URL:https://dallastexasexes.org/event/young-alumni-happy-hour-beginners-two-step-lessons/
CATEGORIES:Young Alumni
ATTACH;FMTTYPE=image/jpeg:https://dallastexasexes.org/test/wp/wp-content/uploads/2024/08/YA-twostepping.jpg
ORGANIZER;CN="Texas Exes Dallas Chapter - Young Alumni":MAILTO:ya@dallastexasexes.org
END:VEVENT
BEGIN:VEVENT
DTSTART;TZID=America/Chicago:20260225T183000
DTEND;TZID=America/Chicago:20260225T203000
DTSTAMP:20260421T092100
CREATED:20260206T014405Z
LAST-MODIFIED:20260206T014408Z
UID:2633-1772044200-1772051400@dallastexasexes.org
SUMMARY:February Board Meeting
DESCRIPTION:RSVP Here\n\n\n\n\n \n\n\n\nJoin our public board meetings to learn what the Dallas Texas Exes are up to and how you can get involved in our upcoming events. \n\n\n\n \n\n\n\nThe Dallas Texas Exes meet every last Wednesday of the month (Except January\, July and November. December is the FIRST Wednesday of the month) from 6:30 – 8:30 PM\, in-person. Board meetings are open to all Texas Exes and friends. You do not need to be a paid Texas Exes member to volunteer with us or attend our events. \n\n\n\nArmanino Building | 15950 N Dallas Parkway\, #600\, Dallas\, TX 75248 | The South Tower; Parking in the garage and around the building \n\n\n\n \n\n\n\nJoin our board meetings to learn what the Dallas Texas Exes are up to and how you can get involved in our upcoming events such as game watching\, Texas/OU weekend\, community service\, networking events\, and more! \n\n\n\n \n\n\n\nFood and beverages are provided\, so RSVP to help us prepare accordingly.
URL:https://dallastexasexes.org/event/february-board-meeting-3/
CATEGORIES:Board Meeting
ATTACH;FMTTYPE=image/jpeg:https://dallastexasexes.org/test/wp/wp-content/uploads/2024/01/DTE-Board-Meetings.jpg
END:VEVENT
BEGIN:VEVENT
DTSTART;TZID=America/Chicago:20260228T083000
DTEND;TZID=America/Chicago:20260228T103000
DTSTAMP:20260421T092100
CREATED:20260122T113825Z
LAST-MODIFIED:20260122T113909Z
UID:2530-1772267400-1772274600@dallastexasexes.org
SUMMARY:Project Worldwide 2026 - Dallas Chapter
DESCRIPTION:RSVP Here\n\n\n\n\n \n\n\n\nThe Dallas Texas Exes have decided to continue partnering with Tango Tab’s Feed the City to put lunches together for those in need. \n\n\n\n \n\n\n\n\n\n\n\nProject Worldwide is an international service initiative created through a partnership between the Texas Exes and the Department of Diversity and Community Engagement. By teaming up\, the DDCE and the Texas Exes have extended community service throughout the month of February and around the globe. \n\n\n\nThe Dallas Texas Exes are partnering with Tango Tab’s Feed the City for our service project\, putting together sacked lunches for people in need around DFW. \n\n\n\n \n\n\n\nWe will be preparing sack lunches at White Rock Alehouse & Brewery (7331 Gaston Ave #100\, Dallas\, TX 75214) on Saturday\, February 28th from 8:30 AM to 10:30 AM. (Please note that this is a different location than our last couple years) \n\n\n\n \n\n\n\nSign up now to help us get an accurate headcount of those participating with us in Project Worldwide and so we can try to save enough space for us to sit together! \n\n\n\n \n\n\n\nYou’re welcome to donate the following items for the lunches\, however the Dallas Texas Exes will be donating a large amount of goods on behalf of our volunteers. \n\n\n\n\nSliced bread\n\n\n\nDeli meat (turkey\, chicken\, or ham – no meat from deli counter)\n\n\n\nSliced cheese (prepackaged)\n\n\n\nYellow mustard (no spicy mustard or mayo)\n\n\n\nLarge bags of chips\n\n\n\nTangerines (ex. Halos or Cuties)\n\n\n\nZiploc sandwich bags\n\n\n\n\n \n\n\n\nDon’t forget to wear Burnt Orange!! This event is public\, so we’d like to try to all sit together and take a group photo afterwards.
URL:https://dallastexasexes.org/event/project-worldwide-2026-dallas-chapter/
ATTACH;FMTTYPE=image/jpeg:https://dallastexasexes.org/test/wp/wp-content/uploads/2021/07/119600993_10157892019604296_2028830275742751357_n.jpg
END:VEVENT
END:VCALENDAR