BEGIN:VCALENDAR
VERSION:2.0
PRODID:-// - ECPv6.15.18//NONSGML v1.0//EN
CALSCALE:GREGORIAN
METHOD:PUBLISH
X-ORIGINAL-URL:https://dallastexasexes.org
X-WR-CALDESC:Events for 
REFRESH-INTERVAL;VALUE=DURATION:PT1H
X-Robots-Tag:noindex
X-PUBLISHED-TTL:PT1H
BEGIN:VTIMEZONE
TZID:America/Chicago
BEGIN:DAYLIGHT
TZOFFSETFROM:-0600
TZOFFSETTO:-0500
TZNAME:CDT
DTSTART:20250309T080000
END:DAYLIGHT
BEGIN:STANDARD
TZOFFSETFROM:-0500
TZOFFSETTO:-0600
TZNAME:CST
DTSTART:20251102T070000
END:STANDARD
BEGIN:DAYLIGHT
TZOFFSETFROM:-0600
TZOFFSETTO:-0500
TZNAME:CDT
DTSTART:20260308T080000
END:DAYLIGHT
BEGIN:STANDARD
TZOFFSETFROM:-0500
TZOFFSETTO:-0600
TZNAME:CST
DTSTART:20261101T070000
END:STANDARD
BEGIN:DAYLIGHT
TZOFFSETFROM:-0600
TZOFFSETTO:-0500
TZNAME:CDT
DTSTART:20270314T080000
END:DAYLIGHT
BEGIN:STANDARD
TZOFFSETFROM:-0500
TZOFFSETTO:-0600
TZNAME:CST
DTSTART:20271107T070000
END:STANDARD
END:VTIMEZONE
BEGIN:VEVENT
DTSTART;TZID=America/Chicago:20260305T170000
DTEND;TZID=America/Chicago:20260305T200000
DTSTAMP:20260421T080105
CREATED:20260226T234101Z
LAST-MODIFIED:20260226T234203Z
UID:2829-1772730000-1772740800@dallastexasexes.org
SUMMARY:Texas Trivia and Alumni Mixer at Happiest Hour
DESCRIPTION:RSVP Here\n\n\n\n\n \n\n\n\nJoin us for a belated celebration of Texas Independence Day at Happiest Hour \n\n\n\nCome out on Thursday March 5th as we celebrate our alma mater while making new friends\, meeting with familiar faces\, and most importantly… taking advantage of Happiest Hour drink specials + Trivia Night! \n\n\n\n \n\n\n\nThe Dallas Chapter will provide appetizers\, door prizes\, and Texas themed trivia (State and UT!) – so brush up on that 4th grade Texas History\, and remember those UT orientation factoids! Teams of no more than 6 can try their hand at winning prizes! \n\n\n\n \n\n\n\nDon’t care for trivia? We’ll have more tables to mix\, mingle\, and chill with other alumni! \n\n\n\n\n5:00 PM Mingle with us and complimentary appetizers! Happiest Hour’s happy hour pricing ends at 6 PM. \n\n\n\n\n\n6:00 PM Trivia will start! \n\n\n\n\nHappiest Hour provides complimentary valet. Other parking options include paid street or garages nearby. Dallas Texas Exes recommends using a rideshare option if you plan on drinking. \n\n\n\n— \n\n\n\nIn 1900\, the Ex-Students Association (Texas Exes) adopted a resolution which states: “Whenever two Texas Exes shall meet on March 2\, they all shall sit and break bread and pay tribute to the institution that made their education possible.” \n\n\n\nMarch 2nd holds special significance as the day that commemorates the founding of The University of Texas. Established through the Texas Constitution of 1876\, the university was envisioned as a “university of the first class\,” dedicated to the promotion of literature\, the arts\, sciences\, and more. This day serves as a celebration of the foresight and vision that led to the creation of one of the nation’s leading institutions of higher education.For Texas Exes around the world\, Texas Independence Day is a moment to reflect on the university’s rich history and its enduring impact. It’s a time to come together\, honor the legacy of the university’s founding\, and recognize the role The University of Texas has played in shaping both the state of Texas and the lives of its alumni. Texas Exes TID celebrations are an expression of pride in the state of Texas\, which had the foresight to establish a “university of the first class” in the Texas constitution. Texas Exes TID events are not celebrations of Texas’ independence from Mexico.
URL:https://dallastexasexes.org/event/texas-trivia-and-alumni-mixer-at-happiest-hour/
CATEGORIES:Happy Hour
ATTACH;FMTTYPE=image/jpeg:https://dallastexasexes.org/test/wp/wp-content/uploads/2024/02/FY21_TID-social_fb.jpg
END:VEVENT
BEGIN:VEVENT
DTSTART;TZID=America/Chicago:20260319T173000
DTEND;TZID=America/Chicago:20260319T230000
DTSTAMP:20260421T080105
CREATED:20260315T192107Z
LAST-MODIFIED:20260315T192112Z
UID:2906-1773941400-1773961200@dallastexasexes.org
SUMMARY:Maverick Dance Hall Texas Takeover at Grandscape\, the Colony
DESCRIPTION:RSVP Here\n\n\n\n\n \n\n\n\nJoin the Collin\, Dallas\, and Denton County Texas Exes Chapters! We’re coming together to celebrate TEXAS this month at Mavericks! \n\n\n\n \n\n\n\nThe Dallas Texas Exes are teaming up with Denton and Collin County Chapters to celebrate Texas Independence Day all month long. What better way to celebrate than by meeting more local alumni\, dancing\, and mingling at Austin based dance hall\, Mavericks. \n\n\n\n \n\n\n\nUPDATE: Mavericks will open early JUST FOR US to provide Texas alumni and friends with a free beginners two-step lesson from 6-7 PM! Doors open to the public at 7 PM. \n\n\n\n \n\n\n\nCan’t make it that early? Find us at a table near the dance floor\, and RSVP for event updates + waived cover instructions. \n\n\n\n \n\n\n\nNo dancing required: Come by after dinner to grab a drink with us\, enjoy the music\, and meet new faces while catching up with old friends. \n\n\n\n \n\n\n\n\n\n\n\n \n\n\n\nIn 1900\, the Ex-Students Association (Texas Exes) adopted a resolution which states: “Whenever two Texas Exes shall meet on March 2\, they all shall sit and break bread and pay tribute to the institution that made their education possible.” \n\n\n\nMarch 2nd holds special significance as the day that commemorates the founding of The University of Texas. Established through the Texas Constitution of 1876\, the university was envisioned as a “university of the first class\,” dedicated to the promotion of literature\, the arts\, sciences\, and more. This day serves as a celebration of the foresight and vision that led to the creation of one of the nation’s leading institutions of higher education.For Texas Exes around the world\, Texas Independence Day is a moment to reflect on the university’s rich history and its enduring impact. It’s a time to come together\, honor the legacy of the university’s founding\, and recognize the role The University of Texas has played in shaping both the state of Texas and the lives of its alumni. Texas Exes TID celebrations are an expression of pride in the state of Texas\, which had the foresight to establish a “university of the first class” in the Texas constitution. Texas Exes TID events are not celebrations of Texas’ independence from Mexico.
URL:https://dallastexasexes.org/event/maverick-dance-hall-texas-takeover-at-grandscape-the-colony/
ATTACH;FMTTYPE=image/webp:https://dallastexasexes.org/test/wp/wp-content/uploads/2026/03/mavericks-dance-hall.webp
END:VEVENT
BEGIN:VEVENT
DTSTART;TZID=America/Chicago:20260325T183000
DTEND;TZID=America/Chicago:20260325T203000
DTSTAMP:20260421T080105
CREATED:20260206T020649Z
LAST-MODIFIED:20260206T021044Z
UID:2641-1774463400-1774470600@dallastexasexes.org
SUMMARY:March Board Meeting
DESCRIPTION:RSVP Here\n\n\n\n\n \n\n\n\nJoin our public board meetings to learn what the Dallas Texas Exes are up to and how you can get involved in our upcoming events. \n\n\n\n \n\n\n\nThe Dallas Texas Exes meet every last Wednesday of the month (Except January\, July and November. December is the FIRST Wednesday of the month) from 6:30 – 8:30 PM\, in-person. Board meetings are open to all Texas Exes and friends. You do not need to be a paid Texas Exes member to volunteer with us or attend our events. \n\n\n\n \n\n\n\nArmanino Building | 15950 N Dallas Parkway\, #600\, Dallas\, TX 75248 | The South Tower; Parking in the garage and around the building \n\n\n\nJoin our board meetings to learn what the Dallas Texas Exes are up to and how you can get involved in our upcoming events such as game watching\, Texas/OU weekend\, community service\, networking events\, and more! \n\n\n\n \n\n\n\nFood and beverages are provided\, so RSVP to help us prepare accordingly.
URL:https://dallastexasexes.org/event/march-board-meeting-3/
CATEGORIES:Board Meeting
ATTACH;FMTTYPE=image/jpeg:https://dallastexasexes.org/test/wp/wp-content/uploads/2024/01/DTE-Board-Meetings.jpg
END:VEVENT
BEGIN:VEVENT
DTSTART;TZID=America/Chicago:20260326T160000
DTEND;TZID=America/Chicago:20260326T190000
DTSTAMP:20260421T080105
CREATED:20260316T010556Z
LAST-MODIFIED:20260316T010751Z
UID:2922-1774540800-1774551600@dallastexasexes.org
SUMMARY:Legacy March Thirsty Thursday
DESCRIPTION:RSVP Here\n\n\n\n\n \n\n\n\nLegacy Group Happy Hour at Happiest Hour Thursday\, March 26th from 4:00pm-7:00pm \n\n\n\n \n\n\n\nJoin the Legacy Group at Happiest Hour\, located in Uptown at 2616 Olive St. \n\n\n\n \n\n\n\nCome out for some fun alumni camaraderie\, invite other alumni and make new alumni friends while seeing familiar faces. Happy hour pricing is available until 6 pm. \n\n\n\nComplimentary valet parking is available. \n\n\n\n \n\n\n\nYour RSVP is requested to help the venue staff properly for us and to allow us to email you any last minute notices\, updates\, or details. \n\n\n\n \n\n\n\nContact vp.engagement@dallastexasexes.org for any questions.
URL:https://dallastexasexes.org/event/legacy-march-thirsty-thursday-2/
CATEGORIES:Happy Hour,Legacy Group
ATTACH;FMTTYPE=image/png:https://dallastexasexes.org/test/wp/wp-content/uploads/2024/08/Happiest-Hour-Logo-e1724717406664.png
END:VEVENT
END:VCALENDAR